BEGIN:VCALENDAR
VERSION:2.0
PRODID:-//LEO ASAL - ECPv6.2.2.1//NONSGML v1.0//EN
CALSCALE:GREGORIAN
METHOD:PUBLISH
X-ORIGINAL-URL:http://leoasal.com
X-WR-CALDESC:Veranstaltungen für LEO ASAL
REFRESH-INTERVAL;VALUE=DURATION:PT1H
X-Robots-Tag:noindex
X-PUBLISHED-TTL:PT1H
BEGIN:VTIMEZONE
TZID:Europe/Paris
BEGIN:DAYLIGHT
TZOFFSETFROM:+0100
TZOFFSETTO:+0200
TZNAME:CEST
DTSTART:20260329T010000
END:DAYLIGHT
BEGIN:STANDARD
TZOFFSETFROM:+0200
TZOFFSETTO:+0100
TZNAME:CET
DTSTART:20261025T010000
END:STANDARD
END:VTIMEZONE
BEGIN:VEVENT
DTSTART;TZID=Europe/Paris:20260320T200000
DTEND;TZID=Europe/Paris:20260320T220000
DTSTAMP:20260419T172734
CREATED:20260216T154241Z
LAST-MODIFIED:20260216T154241Z
UID:2385-1774036800-1774044000@leoasal.com
SUMMARY:Jakob Bänsch Quartett @ Altes Rathaus Bretten
DESCRIPTION:
URL:http://leoasal.com/dates/jakob-baensch-quartett-altes-rathaus-bretten/
LOCATION:Altes Rathaus Bretten\, Marktplatz 1\, Bretten\, 75015
END:VEVENT
BEGIN:VEVENT
DTSTART;TZID=Europe/Paris:20260322T160000
DTEND;TZID=Europe/Paris:20260322T190000
DTSTAMP:20260419T172734
CREATED:20260216T154810Z
LAST-MODIFIED:20260216T154810Z
UID:2388-1774195200-1774206000@leoasal.com
SUMMARY:Jakob Bänsch Quintett @ Jazzwoche Burghausen
DESCRIPTION:
URL:http://leoasal.com/dates/jakob-baensch-quintett-jazzwoche-burghausen/
LOCATION:Stadtsaal Burghausen\, Stadtplatz 108\, Burghausen\, 84489
END:VEVENT
BEGIN:VEVENT
DTSTART;TZID=Europe/Paris:20260324T200000
DTEND;TZID=Europe/Paris:20260324T220000
DTSTAMP:20260419T172734
CREATED:20260216T155029Z
LAST-MODIFIED:20260216T155029Z
UID:2391-1774382400-1774389600@leoasal.com
SUMMARY:Jakob Bänsch Quartett @ b-flat Berlin
DESCRIPTION:
URL:http://leoasal.com/dates/jakob-baensch-quartett-b-flat-berlin/
LOCATION:b-flat\, Dircksenstraße 40\, Berlin\, 10178
END:VEVENT
BEGIN:VEVENT
DTSTART;TZID=Europe/Paris:20260326T200000
DTEND;TZID=Europe/Paris:20260326T220000
DTSTAMP:20260419T172734
CREATED:20260216T155305Z
LAST-MODIFIED:20260216T155305Z
UID:2394-1774555200-1774562400@leoasal.com
SUMMARY:Jakob Bänsch Quartett @ Jazzclub Armer Konrad
DESCRIPTION:
URL:http://leoasal.com/dates/jakob-baensch-quartett-jazzclub-armer-konrad/
LOCATION:Jazzclub Armer Konrad\, Stiftstraße 32\, Weinstadt\, 71384
END:VEVENT
BEGIN:VEVENT
DTSTART;TZID=Europe/Paris:20260327T200000
DTEND;TZID=Europe/Paris:20260327T220000
DTSTAMP:20260419T172734
CREATED:20260216T155622Z
LAST-MODIFIED:20260216T155622Z
UID:2397-1774641600-1774648800@leoasal.com
SUMMARY:Jakob Bänsch Quartett @ Jazzclub Heidenheim
DESCRIPTION:
URL:http://leoasal.com/dates/jakob-baensch-quartett-jazzclub-heidenheim/
LOCATION:Duale Hochschule\, Wilhelmstraße 10\, Heidenheim\, 89518
END:VEVENT
END:VCALENDAR