BEGIN:VCALENDAR
VERSION:2.0
PRODID:-//LEO ASAL - ECPv6.2.2.1//NONSGML v1.0//EN
CALSCALE:GREGORIAN
METHOD:PUBLISH
X-WR-CALNAME:LEO ASAL
X-ORIGINAL-URL:http://leoasal.com
X-WR-CALDESC:Veranstaltungen für LEO ASAL
REFRESH-INTERVAL;VALUE=DURATION:PT1H
X-Robots-Tag:noindex
X-PUBLISHED-TTL:PT1H
BEGIN:VTIMEZONE
TZID:Europe/Paris
BEGIN:DAYLIGHT
TZOFFSETFROM:+0100
TZOFFSETTO:+0200
TZNAME:CEST
DTSTART:20260329T010000
END:DAYLIGHT
BEGIN:STANDARD
TZOFFSETFROM:+0200
TZOFFSETTO:+0100
TZNAME:CET
DTSTART:20261025T010000
END:STANDARD
END:VTIMEZONE
BEGIN:VEVENT
DTSTART;TZID=Europe/Paris:20260425T200000
DTEND;TZID=Europe/Paris:20260425T220000
DTSTAMP:20260425T015411
CREATED:20260223T134218Z
LAST-MODIFIED:20260223T134218Z
UID:2417-1777147200-1777154400@leoasal.com
SUMMARY:The Jakob Manz Project @ Stadthalle Biberach | Biberacher Jazzpreis
DESCRIPTION:
URL:http://leoasal.com/dates/the-jakob-manz-project-stadthalle-biberach-biberacher-jazzpreis/
LOCATION:Stadthalle Biberach\, Theaterstraße 4-8\, Biberach\, 88400
END:VEVENT
END:VCALENDAR