BEGIN:VCALENDAR
VERSION:2.0
PRODID:-//LEO ASAL - ECPv6.2.2.1//NONSGML v1.0//EN
CALSCALE:GREGORIAN
METHOD:PUBLISH
X-WR-CALNAME:LEO ASAL
X-ORIGINAL-URL:http://leoasal.com
X-WR-CALDESC:Veranstaltungen für LEO ASAL
REFRESH-INTERVAL;VALUE=DURATION:PT1H
X-Robots-Tag:noindex
X-PUBLISHED-TTL:PT1H
BEGIN:VTIMEZONE
TZID:Europe/Paris
BEGIN:DAYLIGHT
TZOFFSETFROM:+0100
TZOFFSETTO:+0200
TZNAME:CEST
DTSTART:20260329T010000
END:DAYLIGHT
BEGIN:STANDARD
TZOFFSETFROM:+0200
TZOFFSETTO:+0100
TZNAME:CET
DTSTART:20261025T010000
END:STANDARD
END:VTIMEZONE
BEGIN:VEVENT
DTSTART;TZID=Europe/Paris:20260123T200000
DTEND;TZID=Europe/Paris:20260123T220000
DTSTAMP:20260421T145205
CREATED:20260104T175625Z
LAST-MODIFIED:20260104T175625Z
UID:2372-1769198400-1769205600@leoasal.com
SUMMARY:Jakob Bänsch Quartett @ Dinslaken
DESCRIPTION:
URL:http://leoasal.com/dates/jakob-baensch-quartett-dinslaken/
LOCATION:Aula Ernst-Barlach-Gesamtschule\, Scharnhorststraße 2\, Dinslaken\, 46535
END:VEVENT
END:VCALENDAR