BEGIN:VCALENDAR
VERSION:2.0
PRODID:-//LEO ASAL - ECPv6.2.2.1//NONSGML v1.0//EN
CALSCALE:GREGORIAN
METHOD:PUBLISH
X-WR-CALNAME:LEO ASAL
X-ORIGINAL-URL:http://leoasal.com
X-WR-CALDESC:Veranstaltungen für LEO ASAL
REFRESH-INTERVAL;VALUE=DURATION:PT1H
X-Robots-Tag:noindex
X-PUBLISHED-TTL:PT1H
BEGIN:VTIMEZONE
TZID:Europe/Paris
BEGIN:DAYLIGHT
TZOFFSETFROM:+0100
TZOFFSETTO:+0200
TZNAME:CEST
DTSTART:20250330T010000
END:DAYLIGHT
BEGIN:STANDARD
TZOFFSETFROM:+0200
TZOFFSETTO:+0100
TZNAME:CET
DTSTART:20251026T010000
END:STANDARD
END:VTIMEZONE
BEGIN:VEVENT
DTSTART;TZID=Europe/Paris:20251128T200000
DTEND;TZID=Europe/Paris:20251128T220000
DTSTAMP:20260421T183039
CREATED:20250815T123739Z
LAST-MODIFIED:20250815T123739Z
UID:2350-1764360000-1764367200@leoasal.com
SUMMARY:The Jakob Manz Project @ Fabrik für Kultur und Stadtteil | Club Show
DESCRIPTION:
URL:http://leoasal.com/dates/the-jakob-manz-project-fabrik-fuer-kultur-und-stadtteil-club-show/
LOCATION:Fabrik für Kultur und Stadtteil\, Binsfelder Str. 77\, Düren\, 52351
END:VEVENT
END:VCALENDAR