BEGIN:VCALENDAR
VERSION:2.0
PRODID:-//LEO ASAL - ECPv6.2.2.1//NONSGML v1.0//EN
CALSCALE:GREGORIAN
METHOD:PUBLISH
X-ORIGINAL-URL:http://leoasal.com
X-WR-CALDESC:Veranstaltungen für LEO ASAL
REFRESH-INTERVAL;VALUE=DURATION:PT1H
X-Robots-Tag:noindex
X-PUBLISHED-TTL:PT1H
BEGIN:VTIMEZONE
TZID:Europe/Paris
BEGIN:DAYLIGHT
TZOFFSETFROM:+0100
TZOFFSETTO:+0200
TZNAME:CEST
DTSTART:20250330T010000
END:DAYLIGHT
BEGIN:STANDARD
TZOFFSETFROM:+0200
TZOFFSETTO:+0100
TZNAME:CET
DTSTART:20251026T010000
END:STANDARD
END:VTIMEZONE
BEGIN:VEVENT
DTSTART;TZID=Europe/Paris:20251126T200000
DTEND;TZID=Europe/Paris:20251126T220000
DTSTAMP:20260421T182604
CREATED:20250815T123618Z
LAST-MODIFIED:20250815T123618Z
UID:2347-1764187200-1764194400@leoasal.com
SUMMARY:The Jakob Manz Project @ Brauhaus Breznik | Club Show
DESCRIPTION:
URL:http://leoasal.com/dates/the-jakob-manz-project-brauhaus-breznik-club-show/
LOCATION:Brauhaus Breznik\, 10. Oktober Platz 9\, Bleiburg\, 9150\, Austria
END:VEVENT
END:VCALENDAR